BEGIN:VCALENDAR
VERSION:2.0
PRODID:-//Christian Dance Fellowship of Britain  - ECPv6.15.13.1//NONSGML v1.0//EN
CALSCALE:GREGORIAN
METHOD:PUBLISH
X-WR-CALNAME:Christian Dance Fellowship of Britain 
X-ORIGINAL-URL:https://cdfb.org.uk
X-WR-CALDESC:Events for Christian Dance Fellowship of Britain 
REFRESH-INTERVAL;VALUE=DURATION:PT1H
X-Robots-Tag:noindex
X-PUBLISHED-TTL:PT1H
BEGIN:VTIMEZONE
TZID:UTC
BEGIN:STANDARD
TZOFFSETFROM:+0000
TZOFFSETTO:+0000
TZNAME:UTC
DTSTART:20240101T000000
END:STANDARD
END:VTIMEZONE
BEGIN:VEVENT
DTSTART;TZID=UTC:20251122T100000
DTEND;TZID=UTC:20251122T153000
DTSTAMP:20260421T221031
CREATED:20251110T195753Z
LAST-MODIFIED:20251110T201405Z
UID:806-1763805600-1763825400@cdfb.org.uk
SUMMARY:You shall go out with joy
DESCRIPTION:A CDFB Bristol & West Workshop\nJoin Debby\, Marie\, Debbie\, Carol and Chris for a mixed dance workshop day\nincluding Messianic\, using props and signing. \n10.00am – 3.30pm  |  Thornbury Baptist Church \nAll welcome\, please wear comfortable clothing and shoes. \nParking across the street | bring your own lunch | hot drinks available \n	\n		\n		\n			\n		\n		\n			You shall go out with joy - Sat 22 Nov\n		\n		\n		\n		\n		Young Person consent form required in advance (under 18s) \ndownload here: Young People parental consent form \nplease email completed form to conference@cdfb.org.uk \n  \n\n		\n		\n		£10.00  \n		\n		\n		\n		Processing ... Book NowStripe Payments requires Javascript to be supported by the browser in order to operate.\n		\n	\n	\ndownload printable poster here: B&W poster – Nov25
URL:https://cdfb.org.uk/event1/you-shall-go-out-with-joy/
LOCATION:Thornbury Baptist Church\, Gillingstool\, Thornbury\, Bristol\, BS35 2EG\, United Kingdom
CATEGORIES:Regional Workshop
ATTACH;FMTTYPE=image/png:https://cdfb.org.uk/wp-content/uploads/2025/11/go-out-with-joy.png
ORGANIZER;CN="Bristol & West":MAILTO:bristol-west@cdfb.org.uk
END:VEVENT
END:VCALENDAR